BEGIN:VCALENDAR
VERSION:1.0
PRODID:Open2CKalenderExportV11
BEGIN:VEVENT
DTSTAMP:20260210T110346Z
DTSTART:20260422T193000Z
DTEND:20260422T193000Z
CATEGORIES:Sitzungen
SUMMARY:Gemeinderatssitzung  Jesenwang
DESCRIPTION:
LOCATION:Sitzungssaal, Gemeinde, Kirchstraße 12
UID:2274753dd1db1c48006cd3971ad12891-ad22426bdfecd99e7db5de1c28c40a71
PRIORITY:3
END:VEVENT
END:VCALENDAR
