BEGIN:VCALENDAR
VERSION:1.0
PRODID:Open2CKalenderExportV11
BEGIN:VEVENT
DTSTAMP:20240204T185510Z
DTSTART:20240721T190000Z
DTEND:19991130T000000Z
CATEGORIES:Verschiedenes
SUMMARY:Stammtisch
DESCRIPTION: | Organisator   Bund Naturschutz
LOCATION:Sandmeir Hörbach
UID:1d3d1735589e5385f61b352d1a58a80f-f06e3aef7311f2121fff8b24e7e6043d
PRIORITY:3
END:VEVENT
END:VCALENDAR
