BEGIN:VCALENDAR
VERSION:1.0
PRODID:Open2CKalenderExportV11
BEGIN:VEVENT
DTSTAMP:20241204T214130Z
DTSTART:20250313T193000Z
DTEND:20250313T193000Z
CATEGORIES:Vereine
SUMMARY:JHV Ländlicher Garten Mittelstetten
DESCRIPTION: | Organisator   Ländlicher Garten
LOCATION:Gasthof zur Post
UID:81d2d73de4d25852eb8203f11ab6fe68-67838ee017dadbf584883e7e03c55bc3
PRIORITY:3
END:VEVENT
END:VCALENDAR
