BEGIN:VCALENDAR
VERSION:1.0
PRODID:Open2CKalenderExportV11
BEGIN:VEVENT
DTSTAMP:20260409T064832Z
DTSTART:20260511T190000Z
DTEND:20260511T190000Z
CATEGORIES:Sitzungen
SUMMARY:Gemeinderatssitzung Mittelstetten
DESCRIPTION:Konstituierende Sitzung | Organisator   Gemeinde Mittelstetten
LOCATION:Sitzungssaal der Gemeinde Mittelstetten - Konstituierende Sitzung
UID:58d66f0064a113d1b13dd23461602d42-f46f81df1028360e127d15d9903d6aa8
PRIORITY:3
END:VEVENT
END:VCALENDAR
