BEGIN:VCALENDAR
VERSION:1.0
PRODID:Open2CKalenderExportV11
BEGIN:VEVENT
DTSTAMP:20251214T204428Z
DTSTART:20260104T000000Z
DTEND:20260104T000000Z
CATEGORIES:Pfarrgemeinde
SUMMARY:Gottesdienst mit Segnung und Aussendung Sternsinger
DESCRIPTION: | Organisator   Pfarrgemeinde
LOCATION:St. Silvester
UID:bf7b333f3b804a48ff326afdf345a560-8ddfe9f17faa8697436f0ccc101ab835
PRIORITY:3
END:VEVENT
END:VCALENDAR
