BEGIN:VCALENDAR
VERSION:1.0
PRODID:Open2CKalenderExportV11
BEGIN:VEVENT
DTSTAMP:20251214T214314Z
DTSTART:20260307T093000Z
DTEND:20260307T093000Z
URL:https://www.mittelstetten.de/schuetzenverein-mittelstetten
SUMMARY:Altpapiersammlung
DESCRIPTION: | Organisator   Glonnquell Schützen
LOCATION:Gemeindegebiet
UID:e8c01ee47a4dc4aecbf785e3585c8b5e-a283955065dbe197d80a74997eb112b2
PRIORITY:3
END:VEVENT
END:VCALENDAR
