BEGIN:VCALENDAR
VERSION:1.0
PRODID:Open2CKalenderExportV11
BEGIN:VEVENT
DTSTAMP:20251214T215300Z
DTSTART:20260304T143000Z
DTEND:20260304T143000Z
URL:https://www.mittelstetten.de/seniorentreff-mittelstetten
SUMMARY:Plauderstunde
DESCRIPTION: | Organisator   Seniorentreffen
LOCATION:Gasthof zur Post
UID:27d942191e5fd2f3b7f4368d87037143-24965fe39af0c5c57f704f21825d1429
PRIORITY:3
END:VEVENT
END:VCALENDAR
