BEGIN:VCALENDAR
VERSION:1.0
PRODID:Open2CKalenderExportV11
BEGIN:VEVENT
DTSTAMP:20260107T151724Z
DTSTART:20260306T190000Z
DTEND:20260306T190000Z
CATEGORIES:Vereine
SUMMARY:JHV Madlverein, Gasthaus Eberl
DESCRIPTION: | Organisator   Madlverein Hattenhofen
LOCATION:Gasthaus Eberl
UID:789eaf839f1ed221fde5dc6f79d76e5f-a092d9ac7f9600d51ab76ae7844afb19
PRIORITY:3
END:VEVENT
END:VCALENDAR
