BEGIN:VCALENDAR
VERSION:1.0
PRODID:Open2CKalenderExportV11
BEGIN:VEVENT
DTSTAMP:20260113T083434Z
DTSTART:20260430T000000Z
DTEND:20260505T000000Z
CATEGORIES:Gemeindliche Veranstaltung
SUMMARY:Fahrt nach Brem-sur-Mer zum 20-jährigen Jubiläum der Gemeindepartnerschaft mit Mammendorf
DESCRIPTION: | Organisator   Freundeskreis Brem-sur-Mer
LOCATION:
UID:49b0e53e8db3824c882793708bf0dd45-1a2c47a8b277a69828cea828cf34cd6f
PRIORITY:3
END:VEVENT
END:VCALENDAR
