BEGIN:VCALENDAR
VERSION:1.0
PRODID:Open2CKalenderExportV11
BEGIN:VEVENT
DTSTAMP:20260113T085134Z
DTSTART:20260505T180000Z
DTEND:20260505T180000Z
CATEGORIES:Verschiedenes
SUMMARY:Üppige Locken oder durch lieber glattes Haar? Glätteisen und Lockenstab richtig einsetzen - Veranstaltung der vhs Stadt Land Bruck in Mammendorf
DESCRIPTION: | Organisator   vhs Stadt Land Bruck
LOCATION:Dorothea-von-Haldenberg-Grund- und Mittelschule, Michael-Aumüller-Straße 32
UID:2ee85461d35f999e8fa0a1d847319b78-f8b8ee79815dd0496ffc56c960658eab
PRIORITY:3
END:VEVENT
END:VCALENDAR
