BEGIN:VCALENDAR
VERSION:1.0
PRODID:Open2CKalenderExportV11
BEGIN:VEVENT
DTSTAMP:20260310T100218Z
DTSTART:20260320T193000Z
DTEND:20260320T193000Z
CATEGORIES:Vereine
SUMMARY:Jahreshauptversammlung des Burschenvereins Oberschweinbach
DESCRIPTION:
LOCATION:
UID:cf0a591b406b33f53a4b652b3e4cff3b-51d5340af949ec859d8eae39ef61f3af
PRIORITY:3
END:VEVENT
BEGIN:VEVENT
DTSTAMP:20260218T115340Z
DTSTART:20260314T140000Z
DTEND:20260314T140000Z
CATEGORIES:Verschiedenes
SUMMARY:Baumschneidekurs des Gartenbauvereins Oberschweinbach im Klostergarten Spielberg
DESCRIPTION:
LOCATION:
UID:50f08e4a5d454cb4f26c313cade8ddfd-9cb895e990be14fdf75bd4e917fd32ff
PRIORITY:3
END:VEVENT
BEGIN:VEVENT
DTSTAMP:20260218T115435Z
DTSTART:20260321T160000Z
DTEND:20260321T160000Z
CATEGORIES:Vereine
SUMMARY:Starkbierkönigschiessen der Hubertus-Schützen Oberschweinbach
DESCRIPTION:
LOCATION:
UID:2312167fde3cbe2b9fa954d30b7ba5f0-840a6ab9b1d8b5a0019dba62bb037dd6
PRIORITY:3
END:VEVENT
BEGIN:VEVENT
DTSTAMP:20260218T115907Z
DTSTART:20260322T110000Z
DTEND:20260322T110000Z
CATEGORIES:Verschiedenes
SUMMARY:Jahreshauptversammlung der FFW Günzlhofen
DESCRIPTION:
LOCATION:Feuerwehrhaus Günzlhofen
UID:6f6447fbffc5c9cef391e35edc17eb2e-00ccdb7488b93e7f5202190d6b587b9b
PRIORITY:3
END:VEVENT
END:VCALENDAR
