BEGIN:VCALENDAR
VERSION:2.0
PRODID:< http://www.open2c.de/ >
METHOD:PUBLISH
X-PUBLISHED-TTL:PT12H
BEGIN:VEVENT
CREATED:20210927T071054Z
LAST-MODIFIED:20210927T071238Z
DTSTAMP:20260421T083654Z
DTSTART;VALUE=DATE:20211016
CATEGORIES:Sport
SUMMARY:Reservistenschießen mit Kesselfleischessen\, KVSV
LOCATION:Schützenheim beim Dorfwirt
UID:5d9c61e7481a6827b5d3898bcceac59b@4d910c876fcde2eb54cfa4a836538512
END:VEVENT
END:VCALENDAR