BEGIN:VCALENDAR
VERSION:2.0
PRODID:< http://www.open2c.de/ >
METHOD:PUBLISH
X-PUBLISHED-TTL:PT12H
BEGIN:VEVENT
CREATED:20230510T103427Z
LAST-MODIFIED:20230519T113649Z
ORGANIZER;CN="Gemeinde Althegnenberg":MAILTO:info@gemeinde-althegnenberg.de
DTSTAMP:20260421T075957Z
DTSTART;VALUE=DATE:20230614
CATEGORIES:Sitzungen
SUMMARY:Wahl Jugendrat
DESCRIPTION:Organisator Gemeinde Althegnenberg Kontakt info@gemeinde-altheg
	nenberg.de
LOCATION:Rathaus\n82278 Althegnenberg
UID:580e40401b0f4e416697c9e90c1f1f7d@4d910c876fcde2eb54cfa4a836538512
END:VEVENT
END:VCALENDAR