BEGIN:VCALENDAR
VERSION:2.0
PRODID:< http://www.open2c.de/ >
METHOD:PUBLISH
X-PUBLISHED-TTL:PT12H
BEGIN:VEVENT
CREATED:20231220T215621Z
LAST-MODIFIED:20250608T073136Z
ORGANIZER;CN="Seniorenstammtsich"
DTSTAMP:20260420T080217Z
DTSTART;VALUE=DATE:20250611
CATEGORIES:Senioren
SUMMARY:Plaudernachmittag
DESCRIPTION:siehe auch Tagebuch Plauderstunde Organisator Seniorenstammtsic
	h
LOCATION:Gasthof zur Post
UID:963c96417cc44e6190828495eb2d23c5@4d910c876fcde2eb54cfa4a836538512
END:VEVENT
END:VCALENDAR