BEGIN:VCALENDAR
VERSION:2.0
PRODID:< http://www.open2c.de/ >
METHOD:PUBLISH
X-PUBLISHED-TTL:PT12H
BEGIN:VEVENT
CREATED:20231220T220521Z
LAST-MODIFIED:20251001T060046Z
ORGANIZER;CN="Seniorenstammtsich"
DTSTAMP:20260421T074455Z
DTSTART;VALUE=DATE:20251008
CATEGORIES:Senioren
SUMMARY:Plaudernachmittag
DESCRIPTION:siehe auch Tagebuch Plauderstunde Organisator Seniorenstammtsic
	h
LOCATION:Gasthof zur Post
UID:e0cf71c38ef23d653a679adf1cdca688@4d910c876fcde2eb54cfa4a836538512
END:VEVENT
BEGIN:VEVENT
CREATED:20250309T180611Z
LAST-MODIFIED:20250309T180637Z
ORGANIZER;CN="Henaberger Erlebniswelt"
DTSTAMP:20260421T074455Z
DTSTART;VALUE=DATE:20251008
CATEGORIES:Vereine
SUMMARY:JHV Henaberger Erlebniswelt
DESCRIPTION:Organisator Henaberger Erlebniswelt
LOCATION:Sportzentrum Anbau Althegnenberg
UID:dcafe14479d4219fca9fda2892a28352@4d910c876fcde2eb54cfa4a836538512
END:VEVENT
END:VCALENDAR