BEGIN:VCALENDAR
VERSION:2.0
PRODID:< http://www.open2c.de/ >
METHOD:PUBLISH
X-PUBLISHED-TTL:PT12H
BEGIN:VEVENT
CREATED:20231221T023348Z
LAST-MODIFIED:20240703T120920Z
ORGANIZER;CN="Dorfbelebung"
DTSTAMP:20260420T080322Z
DTSTART:20240707T000000Z
DTEND:20240804T000000Z
SUMMARY:Onlinegewinnspiel: So schön ist unsere Gemeinde bis 4.August
DESCRIPTION:Nähere Infos bitte hier klicken Organisator Dorfbelebung
LOCATION:Gemeindehomepage
UID:29739382441e9a11007b5fa47c8be799@4d910c876fcde2eb54cfa4a836538512
END:VEVENT
BEGIN:VEVENT
CREATED:20231220T221353Z
LAST-MODIFIED:20231220T221601Z
ORGANIZER;CN="Kreis Jugend Ring (KJR)"
DTSTAMP:20260420T080322Z
DTSTART:20240801T000000Z
DTEND:20240802T000000Z
SUMMARY:Spielmobil
DESCRIPTION:Organisator Kreis Jugend Ring (KJR)
LOCATION:An der Schule
UID:dacc7345a439d94f1246dab42d5160c9@4d910c876fcde2eb54cfa4a836538512
END:VEVENT
END:VCALENDAR