BEGIN:VCALENDAR
VERSION:2.0
PRODID:< http://www.open2c.de/ >
METHOD:PUBLISH
X-PUBLISHED-TTL:PT12H
BEGIN:VEVENT
CREATED:20251214T203751Z
LAST-MODIFIED:20251214T203821Z
ORGANIZER;CN="Gemeinde Mittelstetten"
DTSTAMP:20260422T153422Z
DTSTART;VALUE=DATE:20261005
CATEGORIES:Sitzungen
SUMMARY:Gemeinderatssitzung Mittelstetten
DESCRIPTION:Organisator Gemeinde Mittelstetten
LOCATION:Sitzungssaal der Gemeinde Mittelstetten
UID:6fa7f30a99a4cb3b8c2c36af1485a86c@4d910c876fcde2eb54cfa4a836538512
END:VEVENT
END:VCALENDAR