BEGIN:VCALENDAR
VERSION:2.0
PRODID:< http://www.open2c.de/ >
METHOD:PUBLISH
X-PUBLISHED-TTL:PT12H
BEGIN:VEVENT
CREATED:20260113T150933Z
LAST-MODIFIED:20260113T151108Z
ORGANIZER;CN="Dirk Lindauer und Holger Riedel"
DTSTAMP:20260421T170922Z
DTSTART:20261031T000000Z
DTEND:20261104T000000Z
CATEGORIES:Verschiedenes
SUMMARY:FREMO Modellbahntreffen in Mammendorf
DESCRIPTION:Organisator Dirk Lindauer und Holger Riedel
LOCATION:Schulturnhalle und Mehrzweckhalle Mammendorf
UID:9a6f90f6c4eece272b87413185c0852f@4d910c876fcde2eb54cfa4a836538512
END:VEVENT
END:VCALENDAR